BEGIN:VCALENDAR
VERSION:2.0
PRODID:-//Get Set Training - ECPv6.15.13.1//NONSGML v1.0//EN
CALSCALE:GREGORIAN
METHOD:PUBLISH
X-WR-CALNAME:Get Set Training
X-ORIGINAL-URL:https://www.getsettraining.com.au
X-WR-CALDESC:Events for Get Set Training
REFRESH-INTERVAL;VALUE=DURATION:PT1H
X-Robots-Tag:noindex
X-PUBLISHED-TTL:PT1H
BEGIN:VTIMEZONE
TZID:Australia/Brisbane
BEGIN:STANDARD
TZOFFSETFROM:+1000
TZOFFSETTO:+1000
TZNAME:AEST
DTSTART:20250101T000000
END:STANDARD
END:VTIMEZONE
BEGIN:VEVENT
DTSTART;TZID=Australia/Brisbane:20260417T080000
DTEND;TZID=Australia/Brisbane:20260417T120000
DTSTAMP:20260420T202855
CREATED:20250812T014957Z
LAST-MODIFIED:20250812T014957Z
UID:10001117-1776412800-1776427200@www.getsettraining.com.au
SUMMARY:HLTPAT005 - Collect Specimens for Drugs of Abuse Testing
DESCRIPTION:Cost $450 per person GST Free \nStart Time: 8.00am Finish time 12.00pm \nBook Online or contact the office on (07) 4779 3667 or email admin@getsettraining.com.au to secure your spot.
URL:https://www.getsettraining.com.au/training-courses-1/hltpat005-collect-specimens-for-drugs-of-abuse-testing-8/
LOCATION:Safety & Emergency Training\, 1 Greenvale Street\, Yabulu\, QLD\, 4818\, Australia
CATEGORIES:Construction and Workplace
ATTACH;FMTTYPE=image/jpeg:https://www.getsettraining.com.au/wp-content/uploads/2019/09/drug-testing.jpg
ORGANIZER;CN="Safety & Emergency Training":MAILTO:admin@getsettraining.com.au
END:VEVENT
BEGIN:VEVENT
DTSTART;TZID=Australia/Brisbane:20260417T123000
DTEND;TZID=Australia/Brisbane:20260417T163000
DTSTAMP:20260420T202855
CREATED:20250815T004057Z
LAST-MODIFIED:20250815T004057Z
UID:10001241-1776429000-1776443400@www.getsettraining.com.au
SUMMARY:MSMWHS216 - Operate Breathing Apparatus (Industrial)
DESCRIPTION:Cost $200 per person GST Free \nStart Time: 12.30am Finish time 4.30pm \nBook Online or contact the office on (07) 4779 3667 or email admin@getsettraining.com.au to secure your spot.
URL:https://www.getsettraining.com.au/training-courses-1/msmwhs216-operate-breathing-apparatus-industrial-4/
LOCATION:Safety & Emergency Training\, 1 Greenvale Street\, Yabulu\, QLD\, 4818\, Australia
CATEGORIES:Construction and Workplace
ATTACH;FMTTYPE=image/jpeg:https://www.getsettraining.com.au/wp-content/uploads/2021/04/self-contained-breathing-apparatus.jpg
ORGANIZER;CN="Safety & Emergency Training":MAILTO:admin@getsettraining.com.au
END:VEVENT
END:VCALENDAR